BEGIN:VCALENDAR
VERSION:2.0
PRODID:-//CERN//INDICO//EN
BEGIN:VEVENT
SUMMARY:PSI Center for Photon Science CPS / SwissFEL Meeting / Dinner regi
 stration
DTSTART:20260422T170000Z
DTEND:20260422T200000Z
DTSTAMP:20260420T041400Z
UID:indico-event-18670@indico.psi.ch
CONTACT:daniela.jahns@psi.ch
DESCRIPTION:https://indico.psi.ch/event/18670/
URL:https://indico.psi.ch/event/18670/
END:VEVENT
END:VCALENDAR
