BEGIN:VCALENDAR
VERSION:2.0
PRODID:-//CERN//INDICO//EN
BEGIN:VEVENT
SUMMARY:We all become seniors: Agentic workflows for code dev
DTSTART:20260408T130000Z
DTEND:20260408T140000Z
DTSTAMP:20260420T080900Z
UID:indico-event-18707@indico.psi.ch
CONTACT:matthias.krack@psi.ch
DESCRIPTION:Speakers: Alexander Goscinski (PSI)\n\nBy now\, agentic coding
  assistants are used heavily in daily work in the lab. The output quality 
 of these assistants has reached a point where most code by the AiiDA team 
 is now written by an agent. These agents still require clear instructions 
 on what code to write and in which style\, so that contributions are consi
 stent with the code base requirements. At the same time\, the quality of a
  language model's output degrades as the context window fills up with info
 rmation. This has led to the development of "harnesses" for language model
 s that structure what information ​ the model\, how\, and when. Because
  code is now so cheap to generate\, the quality assurance process for intr
 oducing new code into an existing codebase needs to be adapted to these ne
 w constraints. In this talk we cover techniques in agentic engineering to 
 build workflows that produce code aligned with ones intent.\n\nhttps://ind
 ico.psi.ch/event/18707/
LOCATION:OVGA/200
URL:https://indico.psi.ch/event/18707/
END:VEVENT
END:VCALENDAR
