BEGIN:VCALENDAR
VERSION:2.0
PRODID:-//CERN//INDICO//EN
BEGIN:VEVENT
SUMMARY:LTP Seminar
DTSTART:20260414T133000Z
DTEND:20260414T153000Z
DTSTAMP:20260420T002300Z
UID:indico-event-18719@indico.psi.ch
DESCRIPTION:Speakers: Gabriele Auriemma (PSI - Paul Scherrer Institut)\n\n
 https://indico.psi.ch/event/18719/
LOCATION:WBGB/019 (PSI)
URL:https://indico.psi.ch/event/18719/
END:VEVENT
END:VCALENDAR
