BEGIN:VCALENDAR
VERSION:2.0
PRODID:-//CERN//INDICO//EN
BEGIN:VEVENT
SUMMARY:Weekly HD-Mu3e Infrastructure Meeting
DTSTART:20260416T070000Z
DTEND:20260416T080000Z
DTSTAMP:20260420T011600Z
UID:indico-event-18732@indico.psi.ch
DESCRIPTION:Speakers: Thomas Theodor Rudzki (Paul Scherrer Institut)\, And
 re Schoening (University Heidelberg\, Institute of Physics)\n\nMM Board (N
 EW): https://mattermost.gitlab.rlp.net/boards/team/p415ijkgd3ba9r6rg59ehej
 xtc/bhbrbt8uwi3r18pnwry5kxddoaa/vwg3o88oi7ffj3yc9zmwsxufpzh\n \nZoom Meet
 ing: https://eu02web.zoom-x.de/j/63632136805?pwd=1RUeo27Sxb8fBluSeftyKEUAI
 JdZVZ.1Meeting-ID: 636 3213 6805Kenncode: 006551\n\nhttps://indico.psi.ch/
 event/18732/
LOCATION:virtual
URL:https://indico.psi.ch/event/18732/
END:VEVENT
END:VCALENDAR
